Workbook

Sheet DISPONIBLE Bo
A1: LA NOTA COLOMBIA SAS
A2: NIT 901233167-1
A4: INVENTARIO DE ACTIVOS - DISPONIBLE
F5: Corte al 15 de Octubre de 2024
A6: No | B6: Denominación | C6: Tipo | D6: Número de Cuenta | E6: Valor Contable | F6: Afectación Dominio
A7: 1 | B7: Caja Mayor Administrativa | C7: EFECTIVO | E7: 8793201.4
A8: =+A7+1 -> 2 | B8: Caja de Apartado | C8: EFECTIVO | E8: =9588600+2100000 -> 11688600
A9: =+A8+1 -> 3 | B9: Caja Mayor Administrativa- Apartado Propina | C9: EFECTIVO | E9: 17193300
A10: =+A9+1 -> 4 | B10: Caja Menor calle 17 | C10: EFECTIVO | E10: 200000
A11: =+A10+1 -> 5 | B11: Caja Menor Ventura Plaza | C11: EFECTIVO | E11: 200000
A12: =+A11+1 -> 6 | B12: Caja menor Pinar del rio | C12: EFECTIVO | E12: 200000
A13: =+A12+1 -> 7 | B13: Caja menor Diagonal Santander | C13: EFECTIVO | E13: 200000
A14: =+A13+1 -> 8 | B14: Caja menor City Place | C14: EFECTIVO | E14: 400000
A15: =+A14+1 -> 9 | B15: Caja Menor Nota Wok | C15: EFECTIVO | E15: 200000
A16: =+A15+1 -> 10 | B16: Caja Menor de Mantenimiento | C16: EFECTIVO | E16: 400000
A17: =+A16+1 -> 11 | B17: BANCOLOMBIA | C17: AHORRO | D17: 820-000001-35 | E17: 2662707.3
A18: =+A17+1 -> 12 | B18: BANCOLOMBIA | C18: AHORRO | D18: 820-000004-37 | E18: 76672.7
A19: =+A18+1 -> 13 | B19: BANCOLOMBIA | C19: AHORRO | D19: 820-000004-38 | E19: 18511169
A20: =+A19+1 -> 14 | B20: BANCOLOMBIA | C20: AHORRO | D20: 832-000178-49 | E20: -34893726
A21: =+A20+1 -> 15 | B21: DAVIVIENDA | C21: AHORRO | D21: 67600102866 | F21: 0.79
A22: =+A21+1 -> 16 | B22: BANCO OCCIDENTE | C22: CORRIENTE | D22: 600-918411 | F22: 1525
A23: =+A22+1 -> 17 | B23: IRIS COMPAÑÍA | C23: CORRIENTE | D23: 100813426104 | F23: 0
A24: =+A23+1 -> 18 | B24: DAVIVIENDA | C24: CORRIENTE | D24: 67669988882 | F24: 0.06
A25: =+A24+1 -> 19 | B25: BANCOLOMBIA | C25: CORRIENTE | D25: 820-021300-35 | F25: 98.56
A26: =+A25+1 -> 20 | B26: BANCO PICHINCHA | C26: CORRIENTE | D26: 411190756 | F26: 45681286
A27: =+A26+1 -> 21 | B27: BANCOOMEVA | C27: CORRIENTE | D27: 230103402206 | F27: 0.13
A28: =+A27+1 -> 22 | B28: BANCOOMEVA | C28: CORRIENTE | D28: Cte N. 470906 | F28: 1.23
A29: =+A28+1 -> 23 | B29: FIDUCIARIA BANCO DAVIVIENDA | C29: FIDUCUENTA | D29: 607067600024745 | E29: 480864.16
A30: =+A29+1 -> 24 | B30: FIDUCIARIA BANCO OCCIDENTE | C30: FIDUCUENTA | D30: 1001201006054 | E30: 1313770
A31: =+A30+1 -> 25 | B31: FIDUCIARIA BANCOLOMBIA | C31: FIDUCUENTA | D31: 820000001340 | E31: 4882709.3
C33: Total Subdisponible | E33: =SUM(E7:E32) -> 32509268 | F33: =SUM(F7:F32) -> 45682912
C34: Toal Efectivo y Equivalentes de Efectivo | E34: =+E33+F33 -> 78192180
C36: TOTAL ACTIVOS | E36: =+E34+'CLIENTES Bo'!J188+'INVENTARIO Bo'!C14+'ANTICIPO DE IMPUESTOS Bo'!J9+'ANTICIPO DE IMPUESTOS Bo'!J16+'OTROS ACTIVOS NO FINAN'!D114+'OTROS ACTIVOS'!I10+'ACTIVOS NO CORRIENTES Bo. (1)'!D143 -> 1.0044993e+10
B44: Pedro Jose Calderon Rivas | C44: Leonel López Galindo | E44: Nilson Martinez Ascanio
B45: Representante Legal | C45: Contador | E45: Revisor Fiscal
B46: C.E 1026034 | C46: C.C. 79837280 | E46: C.C. 13278139
C47: T.P.112277-T | E47: T.P. 173932 T

Sheet ANTICIPOS 
A1: =+'DISPONIBLE Bo'!A1 -> LA NOTA COLOMBIA SAS
A2: =+'DISPONIBLE Bo'!A2 -> NIT 901233167-1
A5: RELACION ANTICIPO Y AVANCES - A CONTRATISTAS
A7: No. | B7: Cédula o Nit | C7: Nombre Deudor | D7: Domicilio Deudor | E7: Objeto | F7: Capital | G7: Fecha de Generación | H7: Soporte Documento | I7: Valor Total | J7: Total por Deudor | K7: % frente a Activo | L7: Corte a:
A8: 1
A9: 2
J10: =SUM(J8:J9) -> 0 | K10: =SUM(K8:K9) -> 0
A12: RELACION ANTICIPOS Y AVANCES - UNIONES TEMPORALES
A14: No. | B14: Cédula o Nit | C14: Nombre Deudor | D14: Domicilio Deudor | E14: Objeto | F14: Capital | G14: Fecha de Generación | H14: Soporte Documento | I14: Valor Total | J14: Total por Deudor | K14: % frente a Activo | L14: Corte a:
J18: =SUM(J15:J17) -> 0 | K18: =SUM(K15:K17) -> 0
A20: RELACION ANTICIPOS Y AVANCES - TRABAJADORES
A22: No. | B22: Cédula o Nit | C22: Nombre Deudor | D22: Domicilio Deudor | E22: Objeto | F22: Capital | G22: Fecha de Generación | H22: Soporte Documento | I22: Valor Total | J22: Total por Deudor | K22: % frente a Activo | L22: Corte a:
H24: TOTALES | I24: =SUM(I23:I23) -> 0 | J24: =SUM(J23:J23) -> 0 | K24: =SUM(K23:K23) -> 0
A26: RELACION ANTICIPOS Y AVANCES - A TERCEROS
A28: No. | B28: Cédula o Nit | C28: Nombre Deudor | D28: Domicilio Deudor | E28: Objeto | F28: Capital | G28: Soporte Documento | H28: Valor Total | I28: Total por Deudor | J28: % frente a Activo | K28: Corte a:
A29: 1
G30: TOTALES | H30: =SUM(H29:H29) -> 0 | I30: =+H30 -> 0 | J30: =SUM(J29:J29) -> 0
G33: TOTAL ANTICIPOS Y AVANCES | I33: =+J10+J18+J24+I30 -> 0 | J33: =+I33/I35 -> #REF!
G35: TOTAL ACTIVO | I35: =+'DISPONIBLE Bo'!#REF! -> #REF!
A44: ______________________________ | D44: __________________________ | G44: _____________________________
A45: Representante Legal | D45: Revisor Fiscal | G45: Contador
A46: =+'DISPONIBLE Bo'!#REF! -> #REF! | D46: =+'DISPONIBLE Bo'!#REF! -> #REF! | G46: =+'DISPONIBLE Bo'!F44 -> 0
A47: =+'DISPONIBLE Bo'!#REF! -> #REF! | D47: =+'DISPONIBLE Bo'!#REF! -> #REF! | G47: =+'DISPONIBLE Bo'!F47 -> 0
D48: =+'DISPONIBLE Bo'!C48 -> 0 | G48: =+'DISPONIBLE Bo'!F48 -> 0

Sheet Hoja1
A1: No. | B1: C.C. - Nit | C1: Nombre Acreedor | D1: Domicilio Acreedor | E1: Objeto Acreencia | F1: cuenta | G1: sub cuenta | H1: Capital | I1: Interés Pactado | J1: Fecha Generación | K1: Fecha Vencimiento | L1: Dias Mora | M1: Soporte | N1: Valor Vencido | O1: Valor Total | P1: % frente a pasivo | Q1: Corte a: | R1: dias mora
A2: 1 | B2: 830085294 | C2: ACEROS INOXIDABLES ACINOX | D2: CLLE 18 N§ 22-65 | E2: Servicios | F2: ctos y gtos x p | G2: ctos y gtos x p | H2: 3769500 | I2: 0 | J2: 41150 | K2: 41181 | L2: =#N/A -> #N/A | M2: Cheque | N2: =#N/A -> #N/A | O2: 3769500 | P2: =#N/A -> #N/A | Q2: 41243 | R2: =#N/A -> #N/A
A3: =#N/A -> #N/A | B3: 830085294 | C3: ACEROS INOXIDABLES ACINOX | D3: CLLE 18 N§ 22-65 | E3: Servicios | F3: ctos y gtos x p | G3: ctos y gtos x p | H3: 3411850 | I3: 0 | J3: 41136 | K3: 41167 | L3: =#N/A -> #N/A | M3: Cheque | N3: =#N/A -> #N/A | O3: 3411850 | P3: =#N/A -> #N/A | Q3: 41243 | R3: =#N/A -> #N/A
A4: =#N/A -> #N/A | B4: 79516819 | C4: Acosta Carlos Antonio | D4: Cra 31 No. 53 B 14 | E4: Honorarios - Mensajero | F4: ctos y gtos x p | G4: Servicios de Personal | H4: 371400 | I4: 0 | J4: 41212 | K4: 41218 | L4: =#N/A -> #N/A | M4: Cta. Cobro | N4: =#N/A -> #N/A | O4: 371400 | P4: =#N/A -> #N/A | Q4: 41243 | R4: =#N/A -> #N/A
A5: =#N/A -> #N/A | B5: 91443400 | C5: Alberto Saravena | D5: Diag 47 Sur N. 55-42 | E5: Proveedores | F5: proveedores | G5: proveedores | H5: 675700 | I5: 0 | J5: 41148 | K5: 41179 | L5: =#N/A -> #N/A | M5: 2314 | N5: =#N/A -> #N/A | O5: 675700 | P5: =#N/A -> #N/A | Q5: 41243 | R5: =#N/A -> #N/A
A6: =#N/A -> #N/A | B6: 890928257 | C6: Alico | D6: Cll 9 N. 68 - 71 sur | E6: Proveedor | F6: proveedores | G6: proveedor Emp. | H6: 452400 | I6: 0 | J6: 41109 | K6: 41140 | L6: =#N/A -> #N/A | M6: 11145 | N6: =#N/A -> #N/A | O6: 452400 | P6: =#N/A -> #N/A | Q6: 41243 | R6: =#N/A -> #N/A
A7: =#N/A -> #N/A | B7: 890928257 | C7: Alico | D7: Cll 9 N. 68 - 71 sur | E7: Proveedor | F7: proveedores | G7: proveedor Emp. | H7: 707600 | I7: 0 | J7: 41096 | K7: 41127 | L7: =#N/A -> #N/A | M7: 111 | N7: =#N/A -> #N/A | O7: 707600 | P7: =#N/A -> #N/A | Q7: 41243 | R7: =#N/A -> #N/A
A8: =#N/A -> #N/A | B8: 890928257 | C8: Alico | D8: Cll 9 N. 68 - 71 sur | E8: Proveedor | F8: proveedores | G8: proveedor Emp. | H8: 313200 | I8: 0 | J8: 41089 | K8: 41119 | L8: =#N/A -> #N/A | M8: 10962 | N8: =#N/A -> #N/A | O8: 313200 | P8: =#N/A -> #N/A | Q8: 41243 | R8: =#N/A -> #N/A
A9: =#N/A -> #N/A | B9: 890928257 | C9: Alico | D9: Cll 9 N. 68 - 71 sur | E9: Proveedor | F9: proveedores | G9: proveedor Emp. | H9: 1387360 | I9: 0 | J9: 41079 | K9: 41109 | L9: =#N/A -> #N/A | M9: 10853 | N9: =#N/A -> #N/A | O9: 1387360 | P9: =#N/A -> #N/A | Q9: 41243 | R9: =#N/A -> #N/A
A10: =#N/A -> #N/A | B10: 890928257 | C10: Alico | D10: Cll 9 N. 68 - 71 sur | E10: Proveedor | F10: proveedores | G10: proveedor Emp. | H10: =693680 -> 693680 | I10: 0 | J10: 41068 | K10: 41098 | L10: =#N/A -> #N/A | M10: 10777 | N10: =#N/A -> #N/A | O10: 693680 | P10: =#N/A -> #N/A | Q10: 41243 | R10: =#N/A -> #N/A
A11: =#N/A -> #N/A | B11: 890928257 | C11: Alico | D11: Cll 9 N. 68 - 71 sur | E11: Proveedor | F11: proveedores | G11: proveedor Emp. | H11: -507749 | I11: 0 | J11: 41068 | K11: 41098 | L11: =#N/A -> #N/A | M11: 10777 | N11: =#N/A -> #N/A | O11: -507749 | P11: =#N/A -> #N/A | Q11: 41243 | R11: =#N/A -> #N/A
A12: =#N/A -> #N/A | B12: 900372311 | C12: Alimentos DAM | D12: cll 64 F N. 98 - 48 | E12: Proveedores | F12: proveedores | G12: proveedores | H12: 876680 | I12: 0 | J12: 41151 | K12: 41151 | L12: =#N/A -> #N/A | M12: 202 | N12: =#N/A -> #N/A | O12: 876680 | P12: =#N/A -> #N/A | Q12: 41243 | R12: =#N/A -> #N/A
A13: =#N/A -> #N/A | B13: 900372311 | C13: Alimentos DAM | D13: cll 64 F N. 98 - 48 | E13: Proveedores | F13: proveedores | G13: proveedores | H13: 620000 | I13: 0 | J13: 41145 | K13: 41145 | L13: =#N/A -> #N/A | M13: 197 | N13: =#N/A -> #N/A | O13: 620000 | P13: =#N/A -> #N/A | Q13: 41243 | R13: =#N/A -> #N/A
A14: =#N/A -> #N/A | B14: 900372311 | C14: Alimentos DAM | D14: cll 64 F N. 98 - 48 | E14: Proveedores | F14: proveedores | G14: proveedores | H14: 496000 | I14: 0 | J14: 41143 | K14: 41143 | L14: =#N/A -> #N/A | M14: 190 | N14: =#N/A -> #N/A | O14: 496000 | P14: =#N/A -> #N/A | Q14: 41243 | R14: =#N/A -> #N/A
A15: =#N/A -> #N/A | B15: 900372311 | C15: Alimentos DAM | D15: cll 64 F N. 98 - 48 | E15: Proveedores | F15: proveedores | G15: proveedores | H15: 310000 | I15: 0 | J15: 41142 | K15: 41142 | L15: =#N/A -> #N/A | M15: 187 | N15: =#N/A -> #N/A | O15: 310000 | P15: =#N/A -> #N/A | Q15: 41243 | R15: =#N/A -> #N/A
A16: =#N/A -> #N/A | B16: 79269721 | C16: Andrade José Javier | D16: Diag. 22b No. 38-76- Bogotá | E16: Laboral | F16: Obligaciones Laborales | G16: Prima de Servicios | H16: 317250 | I16: 0 | J16: 41075 | K16: 41075 | L16: =#N/A -> #N/A | M16: Prima junio | N16: =#N/A -> #N/A | O16: 317250 | P16: =#N/A -> #N/A | Q16: 41247 | R16: =#N/A -> #N/A
A17: =#N/A -> #N/A | B17: 79269721 | C17: Andrade José Javier | D17: Diag. 22b No. 38-76- Bogotá | E17: Laboral | F17: Obligaciones Laborales | G17: Sueldo 2da q nov | H17: 294582 | I17: 0 | J17: 41075 | K17: 41075 | L17: =#N/A -> #N/A | M17: Prima junio | N17: =#N/A -> #N/A | O17: 294582 | P17: =#N/A -> #N/A | Q17: 41247 | R17: =#N/A -> #N/A
A18: =#N/A -> #N/A | B18: 79269721 | C18: Andrade José Javier | D18: Diag. 22b No. 38-76- Bogotá | E18: Liquidación Prest. Sociales | F18: Obligaciones Laborales | G18: Prestaciones Sociales | H18: 970704 | I18: 0 | J18: 40908 | K18: 40908 | L18: =#N/A -> #N/A | M18: Liquidación | N18: =#N/A -> #N/A | O18: 970704 | P18: =#N/A -> #N/A | Q18: 41243 | R18: =#N/A -> #N/A
A19: =#N/A -> #N/A | B19: 1026569591 | C19: Andrade Roberto Andrés | D19: Diag. 22b No. 38-76- Bogotá | E19: Laboral | F19: Obligaciones Laborales | G19: Prima de Servicios | H19: 317250 | I19: 0 | J19: 41075 | K19: 41075 | L19: =#N/A -> #N/A | M19: Prima junio | N19: =#N/A -> #N/A | O19: 317250 | P19: =#N/A -> #N/A | Q19: 41246 | R19: =#N/A -> #N/A
A20: =#N/A -> #N/A | B20: 1026569591 | C20: Andrade Roberto Andrés | D20: Diag. 22b No. 38-76- Bogotá | E20: Laboral | F20: Obligaciones Laborales | G20: Sueldo 2da q nov | H20: 294582 | I20: 0 | J20: 41075 | K20: 41075 | L20: =#N/A -> #N/A | M20: Prima junio | N20: =#N/A -> #N/A | O20: 294582 | P20: =#N/A -> #N/A | Q20: 41246 | R20: =#N/A -> #N/A
A21: =#N/A -> #N/A | B21: 1026569591 | C21: Andrade Roberto Andrés | D21: Diag. 22b No. 38-76- Bogotá | E21: Liquidación Prest. Sociales | F21: Obligaciones Laborales | G21: Prestaciones Sociales | H21: 970704 | I21: 0 | J21: 40908 | K21: 40908 | L21: =#N/A -> #N/A | M21: Liquidación | N21: =#N/A -> #N/A | O21: 970704 | P21: =#N/A -> #N/A | Q21: 41243 | R21: =#N/A -> #N/A
A22: =#N/A -> #N/A | B22: 1026569591 | C22: ANDRADE SEGURA ROBERTO ANDRES | D22: CRA 68 N NO. 31-77 | E22: prestamo Particular | F22: prestamos a particulares | G22: prestamos a particulares | H22: 500000 | I22: 0 | J22: 41061 | K22: 41061 | L22: =#N/A -> #N/A | M22: Nomina | N22: =#N/A -> #N/A | O22: 500000 | P22: =#N/A -> #N/A | Q22: 41243 | R22: =#N/A -> #N/A
A23: =#N/A -> #N/A | B23: 1026569591 | C23: ANDRADE SEGURA ROBERTO ANDRES | D23: CRA 68 N NO. 31-77 | E23: prestamo Particular | F23: prestamos a particulares | G23: prestamos a particulares | H23: 2200000 | I23: 0 | J23: 41061 | K23: 41061 | L23: =#N/A -> #N/A | M23: Nomina | N23: =#N/A -> #N/A | O23: 2200000 | P23: =#N/A -> #N/A | Q23: 41243 | R23: =#N/A -> #N/A
A24: =#N/A -> #N/A | B24: 1026569591 | C24: ANDRADE SEGURA ROBERTO ANDRES | D24: CRA 68 N NO. 31-77 | E24: prestamo Particular | F24: prestamos a particulares | G24: prestamos a particulares | H24: 1224172 | I24: 0 | J24: 41061 | K24: 41061 | L24: =#N/A -> #N/A | M24: Nomina | N24: =#N/A -> #N/A | O24: 1224172 | P24: =#N/A -> #N/A | Q24: 41243 | R24: =#N/A -> #N/A
A25: =#N/A -> #N/A | B25: 51904370 | C25: ARIAS CONTRERAS MYRIAM SORAYA | D25: CR 8 A 153 51 | E25: Honorarios | F25: ctos y gtos x p | G25: ctos y gtos x p | H25: 2813000 | I25: 0 | J25: 41182 | K25: 41212 | L25: =#N/A -> #N/A | M25: Asesoria | N25: =#N/A -> #N/A | O25: 2813000 | P25: =#N/A -> #N/A | Q25: 41243 | R25: =#N/A -> #N/A
A26: =#N/A -> #N/A | B26: 1042426804 | C26: Ariza Morgan Katerine Milena | D26: CALLE 31 SUR Nº 52- A 50 | E26: Honorarios - Destajo | F26: ctos y gtos x p | G26: Servicios de Personal | H26: 344000 | I26: 0 | J26: 41212 | K26: 41218 | L26: =#N/A -> #N/A | M26: Cta. Cobro | N26: =#N/A -> #N/A | O26: 344000 | P26: =#N/A -> #N/A | Q26: 41243 | R26: =#N/A -> #N/A
A27: =#N/A -> #N/A | B27: 79663865 | C27: Asesores Tributarios | D27: crr 22 A N. 7- 10 sur | E27: Honorarios Revisoria Fiscal | F27: ctos y gtos x p | G27: Honorarios | H27: 774029 | I27: 0 | J27: 41154 | K27: 41154 | L27: =#N/A -> #N/A | M27: 875 | N27: =#N/A -> #N/A | O27: 774029 | P27: =#N/A -> #N/A | Q27: 41243 | R27: =#N/A -> #N/A
A28: =#N/A -> #N/A | B28: 79663865 | C28: Asesores Tributarios | D28: crr 22 A N. 7- 10 sur | E28: Honorarios Revisoria Fiscal | F28: ctos y gtos x p | G28: Honorarios | H28: 774029 | I28: 0 | J28: 41120 | K28: 41120 | L28: =#N/A -> #N/A | M28: 859 | N28: =#N/A -> #N/A | O28: 774029 | P28: =#N/A -> #N/A | Q28: 41243 | R28: =#N/A -> #N/A
A29: =#N/A -> #N/A | B29: 79663865 | C29: Asesores Tributarios | D29: crr 22 A N. 7- 10 sur | E29: Honorarios Revisoria Fiscal | F29: ctos y gtos x p | G29: Honorarios | H29: 847529 | I29: 0 | J29: 41090 | K29: 41090 | L29: =#N/A -> #N/A | M29: 856 | N29: =#N/A -> #N/A | O29: 847529 | P29: =#N/A -> #N/A | Q29: 41243 | R29: =#N/A -> #N/A
A30: =#N/A -> #N/A | B30: 79663865 | C30: Asesores Tributarios | D30: crr 22 A N. 7- 10 sur | E30: Honorarios Revisoria Fiscal | F30: ctos y gtos x p | G30: Honorarios | H30: 1695057 | I30: 0 | J30: 41029 | K30: 41029 | L30: =#N/A -> #N/A | M30: 835 | N30: =#N/A -> #N/A | O30: 1695057 | P30: =#N/A -> #N/A | Q30: 41243 | R30: =#N/A -> #N/A
A31: =#N/A -> #N/A | B31: 41525561 | C31: Aurora Diaz | D31: CLL 71 A N. 75 - 55 | E31: Proveedores | F31: proveedores | G31: proveedor PT | H31: 168000 | I31: 0 | J31: 41196 | K31: 41196 | L31: =#N/A -> #N/A | M31: 7937 | N31: =#N/A -> #N/A | O31: 168000 | P31: =#N/A -> #N/A | Q31: 41243 | R31: =#N/A -> #N/A
A32: =#N/A -> #N/A | B32: 41525561 | C32: Aurora Diaz | D32: CLL 71 A N. 75 - 55 | E32: Proveedores | F32: proveedores | G32: proveedor PT | H32: 168000 | I32: 0 | J32: 41158 | K32: 41158 | L32: =#N/A -> #N/A | M32: 7789 | N32: =#N/A -> #N/A | O32: 168000 | P32: =#N/A -> #N/A | Q32: 41243 | R32: =#N/A -> #N/A
A33: =#N/A -> #N/A | B33: 41525561 | C33: Aurora Diaz | D33: CLL 71 A N. 75 - 55 | E33: Proveedores | F33: proveedores | G33: proveedor PT | H33: 168000 | I33: 0 | J33: 41136 | K33: 41136 | L33: =#N/A -> #N/A | M33: 7707 | N33: =#N/A -> #N/A | O33: 168000 | P33: =#N/A -> #N/A | Q33: 41243 | R33: =#N/A -> #N/A
A34: =#N/A -> #N/A | B34: 41525561 | C34: Aurora Diaz | D34: CLL 71 A N. 75 - 55 | E34: Proveedores | F34: proveedores | G34: proveedor PT | H34: 168000 | I34: 0 | J34: 41127 | K34: 41127 | L34: =#N/A -> #N/A | M34: 7675 | N34: =#N/A -> #N/A | O34: 168000 | P34: =#N/A -> #N/A | Q34: 41243 | R34: =#N/A -> #N/A
A35: =#N/A -> #N/A | B35: 41525561 | C35: Aurora Diaz | D35: CLL 71 A N. 75 - 55 | E35: Proveedores | F35: proveedores | G35: proveedor PT | H35: 168000 | I35: 0 | J35: 41107 | K35: 41107 | L35: =#N/A -> #N/A | M35: 7603 | N35: =#N/A -> #N/A | O35: 168000 | P35: =#N/A -> #N/A | Q35: 41243 | R35: =#N/A -> #N/A
A36: =#N/A -> #N/A | B36: 860035827 | C36: Banco av villas | D36: calle 13 Nº 28 - 99 | E36: CREDITOS | F36: oblig financ | G36: oblig financ | H36: 37445217 | J36: 41130 | K36: 41215 | L36: =#N/A -> #N/A | M36: Pagaré | N36: 2159000 | O36: 37445217 | P36: =#N/A -> #N/A | Q36: 41243 | R36: =#N/A -> #N/A
A37: =#N/A -> #N/A | B37: 860035827 | C37: Banco av villas | D37: calle 13 Nº 28 - 99 | E37: CREDITOS | F37: oblig financ | G37: oblig financ | H37: 27547370 | J37: 40892 | K37: 41184 | L37: =#N/A -> #N/A | M37: Pagaré | N37: 4313882 | O37: 27547370 | P37: =#N/A -> #N/A | Q37: 41243 | R37: =#N/A -> #N/A
A38: =#N/A -> #N/A | B38: 860035827 | C38: Banco av villas | D38: calle 13 Nº 28 - 99 | E38: CREDITOS | F38: oblig financ | G38: oblig financ | H38: 24118064 | J38: 40765 | K38: 41099 | L38: =#N/A -> #N/A | M38: Pagaré | N38: 4156000 | O38: 24118064 | P38: =#N/A -> #N/A | Q38: 41243 | R38: =#N/A -> #N/A
A39: =#N/A -> #N/A | B39: 860002964 | C39: Banco Bogota | D39: Calle 36 Sur No.73 D 22 | E39: Crédito | F39: oblig financ | G39: oblig financ | H39: 1074324 | J39: 40858 | K39: 41224 | L39: =#N/A -> #N/A | M39: Pagaré | N39: 1074323 | O39: 1074324 | P39: =#N/A -> #N/A | Q39: 41243 | R39: =#N/A -> #N/A
A40: =#N/A -> #N/A | B40: 860002964 | C40: Banco Bogota | D40: Calle 36 Sur No.73 D 22 | E40: Crédito 00155418721 | F40: oblig financ | G40: oblig financ | H40: 18396981 | J40: 41107 | K40: 41209 | L40: =#N/A -> #N/A | M40: Pagaré | N40: 5565841 | O40: 18396981 | P40: =#N/A -> #N/A | Q40: 41243 | R40: =#N/A -> #N/A
...

Sheet CLIENTES Bo
A1: =+'DISPONIBLE Bo'!A1:F1 -> LA NOTA COLOMBIA SAS
A2: =+'DISPONIBLE Bo'!A2:F2 -> NIT 901233167-1
A4: INVENTARIO DE ACTIVOS - CUENTAS POR COBRAR CLIENTES
J5: =+'DISPONIBLE Bo'!F5 -> Corte al 15 de Octubre de 2024
A6: No | B6: ID | C6: CLIENTE | D6: DIRECCIÓN | E6: CIUDAD | F6: FECHA DE ORIGEN | G6: VENCIMIENTO | H6: DOCUMENTO | I6: TOTAL | J6: TOTAL POR DEUDOR
A7: 1 | B7: 1090392288 | C7: NICOLAS JARAMILLO RAMIREZ | D7: AV 1 E N.11-142 BR CAOBOS | E7: CUCUTA | F7: 45436 | G7: 45467 | H7: CMDSR05-024 | I7: 202200 | J7: =+I7 -> 202200
A8: =+A7+1 -> 2 | B8: 900843898 | C8: RAPPI SAS | D8: CL 71 A # 14 - 36 | E8: BOGOTA | F8: 45567 | G8: 45574 | H8: FVB411133 | I8: 1457263.2 | J8: =SUM(I8:I186) -> 10266755
A9: =+A8+1 -> 3 | B9: 900843898 | C9: RAPPI SAS | D9: CL 71 A # 14 - 36 | E9: BOGOTA | F9: 45569 | G9: 45574 | H9: FVB411134 | I9: 147500
A10: =+A9+1 -> 4 | B10: 900843898 | C10: RAPPI SAS | D10: CL 71 A # 14 - 36 | E10: BOGOTA | F10: 45570 | G10: 45574 | H10: FVB411175 | I10: 19900
A11: =+A10+1 -> 5 | B11: 900843898 | C11: RAPPI SAS | D11: CL 71 A # 14 - 36 | E11: BOGOTA | F11: 45570 | G11: 45574 | H11: FVB411168 | I11: 21900
A12: =+A11+1 -> 6 | B12: 900843898 | C12: RAPPI SAS | D12: CL 71 A # 14 - 36 | E12: BOGOTA | F12: 45570 | G12: 45574 | H12: FVB65037 | I12: 21901
A13: =+A12+1 -> 7 | B13: 900843898 | C13: RAPPI SAS | D13: CL 71 A # 14 - 36 | E13: BOGOTA | F13: 45570 | G13: 45574 | H13: FVB65050 | I13: 24901
A14: =+A13+1 -> 8 | B14: 900843898 | C14: RAPPI SAS | D14: CL 71 A # 14 - 36 | E14: BOGOTA | F14: 45570 | G14: 45574 | H14: FVB411334 | I14: 26400
A15: =+A14+1 -> 9 | B15: 900843898 | C15: RAPPI SAS | D15: CL 71 A # 14 - 36 | E15: BOGOTA | F15: 45570 | G15: 45574 | H15: FVB411259 | I15: 29900
A16: =+A15+1 -> 10 | B16: 900843898 | C16: RAPPI SAS | D16: CL 71 A # 14 - 36 | E16: BOGOTA | F16: 45570 | G16: 45574 | H16: FVB411250 | I16: 32800
A17: =+A16+1 -> 11 | B17: 900843898 | C17: RAPPI SAS | D17: CL 71 A # 14 - 36 | E17: BOGOTA | F17: 45570 | G17: 45574 | H17: FVB411335 | I17: 38800
A18: =+A17+1 -> 12 | B18: 900843898 | C18: RAPPI SAS | D18: CL 71 A # 14 - 36 | E18: BOGOTA | F18: 45570 | G18: 45574 | H18: FVB411300 | I18: 39800
A19: =+A18+1 -> 13 | B19: 900843898 | C19: RAPPI SAS | D19: CL 71 A # 14 - 36 | E19: BOGOTA | F19: 45570 | G19: 45574 | H19: FVB65020 | I19: 41801
A20: =+A19+1 -> 14 | B20: 900843898 | C20: RAPPI SAS | D20: CL 71 A # 14 - 36 | E20: BOGOTA | F20: 45570 | G20: 45574 | H20: FVB411340 | I20: 46900
... A186: =+A185+1 -> 180 | B186: 900843898 | C186: RAPPI SAS | D186: CL 71 A # 14 - 36 | E186: BOGOTA | F186: 45580 | G186: 45588 | H186: FVB412789 | I186: 149400
A187: =+A186+1 -> 181 | B187: 88190815-1 | C187: PABLO DAZA DELGADO | D187: CALLE 4 N 11-29 BARRIO CARORA | E187: CUCUTA | F187: 45534 | G187: =+F187+8 -> 45542 | I187: 42497956 | J187: =+I187 -> 42497956
G188: TOTAL CUENTAS POR COBRAR CLIENTES | J188: =SUM(J7:J187) -> 52966911
A190: INVENTARIO DE ACTIVOS - OTRAS CUENTAS POR COBRAR
A192: No | B192: ID | C192: CLIENTE | D192: DIRECCIÓN | E192: CIUDAD | F192: FECHA DE ORIGEN | G192: VENCIMIENTO | H192: DOCUMENTO | I192: TOTAL | J192: TOTAL POR ACREEDOR
A193: 1 | I193: 0 | J193: =+I193 -> 0
A194: =+A193+1 -> 2 | I194: 0 | J194: =+I194 -> 0
A195: =+A194+1 -> 3 | I195: 0 | J195: =+I195 -> 0
G196: TOTAL OTRAS CUENTAS POR COBRAR | J196: =SUM(J193:J195) -> 0
B204: Pedro Jose Calderon Rivas | E204: Leonel López Galindo | I204: Nilson Martinez Ascanio
B205: Representante Legal | E205: Contador | I205: Revisor Fiscal
B206: C.E 1026034 | E206: C.C. 79837280 | I206: C.C. 13278139
E207: T.P.112277-T | I207: T.P. 173932 T

Sheet INVENTARIO Bo
A1: =+'ANTICIPO DE IMPUESTOS Bo'!A1:I1 -> LA NOTA COLOMBIA SAS
A2: =+'ANTICIPO DE IMPUESTOS Bo'!A2:I2 -> NIT 901233167-1
A4: INVENTARIO
C5: AL 15 Octubre del 2024
A6: ITEM | B6: BIEN | C6: VALOR ACTUAL
A7: 1 | B7: Insumo Comida y Bebida | C7: 2.9717581e+08
A8: 2 | B8: Insumo Papel | C8: 21502326
A9: 3 | B9: Artope Aseo y Cocina | C9: 10739529
A10: 4 | B10: Insumo Bebida y Comida Exento, Excluido y No Gravado | C10: 268577
A11: 5 | B11: Producto Terminado | C11: 1066712701
A12: 6 | B12: mercancia no fabricada por la empresa | C12: 1228170.7
A13: 7 | B13: Insumo Bebida y Comida Exento, Excluido y No Gravado | C13: 12604816
A14: TOTAL INVENTARIO | C14: =SUM(C7:C13) -> 1.4102319e+09
A22: Pedro Jose Calderon Rivas | B22: Leonel López Galindo | C22: Nilson Martinez Ascanio
A23: Representante Legal | B23: Contador | C23: Revisor Fiscal
A24: C.E 1026034 | B24: C.C. 79837280 | C24: C.C. 13278139
B25: T.P.112277-T | C25: T.P. 173932 T

Sheet ANTICIPO DE IMPUESTOS Bo
A1: =+'DISPONIBLE Bo'!A1 -> LA NOTA COLOMBIA SAS
A2: =+'DISPONIBLE Bo'!A2 -> NIT 901233167-1
A4: INVENTARIO DE ACTIVOS ANTICIPO DE IMPUESTOS CORRIENTES
J5: =+'DISPONIBLE Bo'!F5 -> Corte al 15 de Octubre de 2024
A6: ITEM | B6: NIT O CÉDULA | C6: Nombre Acreedor | D6: Domicilio Acreedor | E6: Ciudad | F6: Objeto Acreencia | G6: Año | H6: Periodo | I6: TOTAL | J6: TOTAL POR DEUDOR
A7: 1 | B7: 800.197.268-4 | C7: Direccion dd impuestos y aduanas nacionales | D7: Calle 8 # 3-50 | E7: Cucuta | F7: autorretenciones renta | G7: 45535 | H7: 2024 | I7: 51042000 | J7: =SUM(I7:I8) -> 105668897
A8: 2 | B8: 800.197.268-4 | C8: Direccion dd impuestos y aduanas nacionales | D8: Calle 8 # 3-50 | E8: Cucuta | F8: Anticipo renta | G8: 45535 | H8: 2024 | I8: 54626897
H9: TOTAL ANTICIPO DE IMPUESTOS CORRIENTES | J9: =SUM(J7:J8) -> 105668897
A11: INVENTARIO DE ACTIVOS ANTICIPO DE OTROS IMPUESTOS
A12: ITEM | B12: NIT O CÉDULA | C12: Nombre Acreedor | D12: Domicilio Acreedor | E12: Ciudad | F12: Objeto Acreencia | G12: Año | H12: Periodo | I12: TOTAL | J12: TOTAL POR DEUDOR
A13: 1 | B13: 860034604-5 | C13: San jose de Cucuta | D13: Calle 11 No 5-05 | E13: Cucuta | F13: Saldo a favor ICA | G13: 45291 | H13: 2023 | I13: 10945000 | J13: =SUM(I13:I15) -> 108533754
A14: =+A13+1 -> 2 | B14: 860034604-5 | C14: San jose de Cucuta | D14: Calle 11 No 5-05 | E14: Cucuta | F14: autorretenciones ICA | G14: 45535 | H14: 2024 | I14: 94347000
A15: =+A14+1 -> 3 | B15: 860034604-5 | C15: San jose de Cucuta | D15: Calle 11 No 5-05 | E15: Cucuta | F15: autorretenciones ICA | G15: 45535 | H15: 2024 | I15: 3241754
H16: TOTAL ANTICIPO DE OTROS IMPUESTOS | J16: =SUM(J13:J15) -> 108533754
B24: Pedro Jose Calderon Rivas | D24: Leonel López Galindo | G24: Nilson Martinez Ascanio
B25: Representante Legal | D25: Contador | G25: Revisor Fiscal
B26: C.E 1026034 | D26: C.C. 79837280 | G26: C.C. 13278139
D27: T.P.112277-T | G27: T.P. 173932 T

Sheet OTROS ACTIVOS NO FINAN
A1: =+'DISPONIBLE Bo'!A1:F1 -> LA NOTA COLOMBIA SAS
A2: =+'DISPONIBLE Bo'!A2:F2 -> NIT 901233167-1
A4: INVENTARIO DE ACTIVOS - CARGOS DIFERIDOS
H5: =+'DISPONIBLE Bo'!F5 -> Corte al 15 de Octubre de 2024
A6: No | B6: NIT | C6: NOMBRE | D6: DESCRIPCION | E6: DOCUMENTO | F6: FECHA | G6: VALOR | H6: TOTAL POR DEUDOR
A7: 1 | B7: 890903407-9 | C7: HDI SEGUROS S.A POLIZA PERTENECIENTE A LOS RESTAURANTES | D7: Seguro | E7: FCC1FE011055370 | F7: 45497 | G7: 17292295 | H7: =+G7 -> 17292295
A8: =+A7+1 -> 2 | B8: 890903407 | C8: SEGUROS GENERALES SURAMERICANA SA | D8: Seguro | E8: FCCD10409804436 | F8: 45523 | G8: 318686 | H8: =SUM(G8:G11) -> 1637441.2
A9: =+A8+1 -> 3 | B9: 890903407 | C9: SEGUROS GENERALES SURAMERICANA SA | D9: Seguro | E9: FCCD10409804436 | F9: 45523 | G9: 587691
A10: =+A9+1 -> 4 | B10: 890903407 | C10: SEGUROS GENERALES SURAMERICANA SA | D10: Seguro | E10: FCCD10409541609 | F10: 45493 | G10: 438935.33
A11: =+A10+1 -> 5 | B11: 890903407 | C11: SEGUROS GENERALES SURAMERICANA SA | D11: Seguro | E11: FCCD10409542343 | F11: 45493 | G11: 292128.83
A12: =+A11+1 -> 6 | B12: 830034343-9 | C12: RENTEK SAS | D12: Fondo Nacional de Garantia | F12: 45176 | G12: 275744.82 | H12: =+G12 -> 275744.82
A13: =+A12+1 -> 7 | B13: 890300279-4 | C13: BANCO DE OCCIDENTE N.61448 | D13: Fondo Nacional de Garantia | F13: 45197 | G13: 100443.44 | H13: =SUM(G13:G16) -> 4231782.4
A14: =+A13+1 -> 8 | B14: 890300279-4 | C14: BANCO DE OCCIDENTE N.64178 | D14: Fondo Nacional de Garantia | F14: 45260 | G14: 1345160
A15: =+A14+1 -> 9 | B15: 890300279-4 | C15: BANCO OCCIDENTE FONDO NACIONAL DE GARANTIA CREDITOS OCCIDENTE | D15: Fondo Nacional de Garantia | F15: 45331 | G15: 501629
A16: =+A15+1 -> 10 | B16: 890300279-4 | C16: BANCO OCCIDENTE CREDITO 60030067080 | D16: Fondo Nacional de Garantia | F16: 45331 | G16: 2284550
A17: =+A16+1 -> 11 | B17: 890200756-7 | C17: BANCO PICHINCHA S A | D17: Fondo Nacional de Garantia | F17: 45335 | G17: 412137 | H17: =SUM(G17:G19) -> 14683480
A18: =+A17+1 -> 12 | B18: 890200756-7 | C18: BANCO PICHINCHA S A | D18: Fondo Nacional de Garantia | F18: 45260 | G18: 12461551
A19: =+A18+1 -> 13 | B19: 890200756-7 | C19: BANCO PICHINCHA S A | D19: Fondo Nacional de Garantia | F19: 45260 | G19: 1809792
A20: =+A19+1 -> 14 | B20: 890903938-8 | C20: BANCOLOMBIA LEASING | D20: Fondo Nacional de Garantia | F20: 45244 | G20: 1090511 | H20: =SUM(G20:G21) -> 1627639
A21: =+A20+1 -> 15 | B21: 890903938-8 | C21: BANCOLOMBIA LEASING 278442 | D21: Fondo Nacional de Garantia | F21: 45349 | G21: 537128
A22: =+A21+1 -> 16 | B22: 901040141-1 | C22: FINAKTIVA SAS | D22: Fondo Nacional de Garantia | F22: 45351 | G22: 4119281 | H22: =+G22 -> 4119281
F23: TOTAL ACTIVOS DIFERIDOS | H23: =SUM(H7:H22) -> 43867663
A25: INVENTARIO DE ACTIVOS - OTROS ACTIVOS NO FINANCIEROS CUENTAS POR COBRAR PROVEEDORES
A26: No | B26: ID | C26: CLIENTE | D26: DIRECCIÓN | E26: CIUDAD | F26: FECHA DE ORIGEN | G26: DOCUMENTO | H26: VALOR | I26: TOTAL POR DEUDOR
A27: 1 | B27: 800000276-8 | C27: AVICOLA EL MADRONO SA | D27: KM 6 AUT GIRON CR 12 57 88 BUCARAMANGA | E27: BUCARAMANGA | F27: 45576 | G27: CE0010-162 | H27: 11381100 | I27: =+H27 -> 11381100
A28: =+A27+1 -> 2 | B28: 13467003-4 | C28: CARLOS ARTURO PEÑA ARDILA | D28: CLL 22AN #18E-59 NIZA | E28: CUCUTA | F28: 45406 | G28: CE0004-421 | H28: 8223000 | I28: =SUM(H28:H41) -> 33288492
A29: =+A28+1 -> 3 | B29: 13467003-4 | C29: CARLOS ARTURO PEÑA ARDILA | D29: CLL 22AN #18E-59 NIZA | E29: CUCUTA | F29: 45408 | G29: CE0004-501 | H29: 3184400
A30: =+A29+1 -> 4 | B30: 13467003-4 | C30: CARLOS ARTURO PEÑA ARDILA | D30: CLL 22AN #18E-59 NIZA | E30: CUCUTA | F30: 45476 | G30: CE0007-144 | H30: 209655.51
A31: =+A30+1 -> 5 | B31: 13467003-4 | C31: CARLOS ARTURO PEÑA ARDILA | D31: CLL 22AN #18E-59 NIZA | E31: CUCUTA | F31: 45482 | G31: CE0007-143 | H31: 192825.59
A32: =+A31+1 -> 6 | B32: 13467003-4 | C32: CARLOS ARTURO PEÑA ARDILA | D32: CLL 22AN #18E-59 NIZA | E32: CUCUTA | F32: 45513 | G32: CE0008-106 | H32: 168036.34
A33: =+A32+1 -> 7 | B33: 13467003-4 | C33: CARLOS ARTURO PEÑA ARDILA | D33: CLL 22AN #18E-59 NIZA | E33: CUCUTA | F33: 45513 | G33: CE0008-106 | H33: 2790916.7
A34: =+A33+1 -> 8 | B34: 13467003-4 | C34: CARLOS ARTURO PEÑA ARDILA | D34: CLL 22AN #18E-59 NIZA | E34: CUCUTA | F34: 45513 | G34: CE0008-106 | H34: 54527.86
A35: =+A34+1 -> 9 | B35: 13467003-4 | C35: CARLOS ARTURO PEÑA ARDILA | D35: CLL 22AN #18E-59 NIZA | E35: CUCUTA | F35: 45538 | G35: CE0009-077 | H35: 89250.79
A36: =+A35+1 -> 10 | B36: 13467003-4 | C36: CARLOS ARTURO PEÑA ARDILA | D36: CLL 22AN #18E-59 NIZA | E36: CUCUTA | F36: 45539 | G36: CE0009-053 | H36: 3600393.4
A37: =+A36+1 -> 11 | B37: 13467003-4 | C37: CARLOS ARTURO PEÑA ARDILA | D37: CLL 22AN #18E-59 NIZA | E37: CUCUTA | F37: 45540 | G37: CE0009-066 | H37: 5136620.5
A38: =+A37+1 -> 12 | B38: 13467003-4 | C38: CARLOS ARTURO PEÑA ARDILA | D38: CLL 22AN #18E-59 NIZA | E38: CUCUTA | F38: 45541 | G38: CE0009-098 | H38: 847206.17
A39: =+A38+1 -> 13 | B39: 13467003-4 | C39: CARLOS ARTURO PEÑA ARDILA | D39: CLL 22AN #18E-59 NIZA | E39: CUCUTA | F39: 45545 | G39: CE0010-012 | H39: 2026147.8
A40: =+A39+1 -> 14 | B40: 13467003-4 | C40: CARLOS ARTURO PEÑA ARDILA | D40: CLL 22AN #18E-59 NIZA | E40: CUCUTA | F40: 45566 | G40: CE0010-012 | H40: 630139.42
A41: =+A40+1 -> 15 | B41: 13467003-4 | C41: CARLOS ARTURO PEÑA ARDILA | D41: CLL 22AN #18E-59 NIZA | E41: CUCUTA | F41: 45580 | G41: CE0010-198 | H41: 6135372.1
A42: =+A41+1 -> 16 | B42: 901712450-5 | C42: CHARCUTERIA VILLANUEVA SW SAS | D42: CLL 5 4 66 BRR LATINO | E42: CUCUTA | F42: 45570 | G42: CE0010-069 | H42: 233000 | I42: =+H42 -> 233000
...

Sheet OTROS ACTIVOS
A1: =+'DISPONIBLE Bo'!A1:F1 -> LA NOTA COLOMBIA SAS
A2: =+'DISPONIBLE Bo'!A2:F2 -> NIT 901233167-1
A4: INVENTARIO DE ACTIVOS - CUENTAS POR COBRAR SOCIOS
I5: Corte a 31 de Agosto de 2024
A6: No | B6: ID | C6: CLIENTE | D6: DIRECCIÓN | E6: CIUDAD | F6: FECHA DE ORIGEN | G6: DOCUMENTO | H6: TOTAL | I6: TOTAL POR DEUDOR
A7: 1 | B7: 1026034 | C7: PEDRO JOSE CALDERON RIVAS | D7: CALLE 27 #11-30, CASA 8 | E7: Cucuta | F7: 45473 | H7: 137030687 | I7: =+H7 -> 137030687
A8: 2 | B8: 1026030 | C8: SILVIA KATHERINE RAMIREZ GALAVIZ | D8: CALLE 27 #11-30, CASA 8 | E8: Cucuta | F8: 45473 | H8: 78788288 | I8: =+H8 -> 78788288
I10: =SUM(I7:I8) -> 215818975
B20: Pedro Jose Calderon Rivas | E20: Leonel López Galindo | H20: Nilson Martinez Ascanio
B21: Representante Legal | E21: Contador | H21: Revisor Fiscal
B22: C.E 1026034 | E22: C.C. 79837280 | H22: C.C. 13278139
E23: T.P.112277-T | H23: T.P. 173932 T

Sheet ACTIVOS NO CORRIENTES Bo. (1)
A1: =+'[1]DISPONIBLE Bo'!A1:F1 -> LA NOTA COLOMBIA SAS
A2: =+'[1]DISPONIBLE Bo'!A2:F2 -> NIT 901233167-1
A3: INVENTARIO DE ACTIVOS - ACTIVOS FIJOS
A5: PROPIEDAD PLANTA Y EQUIPO - TERRENOS
A6: ITEM | B6: BIEN | C6: MATRICULA INMOBILIARIA | D6: DIRECCION | E6: CIUDAD | F6: LIMITACION DE DOMINIO | G6: GRAVAMEN | H6: VALOR
H7: 0
H8: 0
H9: 0
A10: TOTAL TERRENOS | H10: =SUM(H7:H9) -> 0
A12: PROPIEDAD PLANTA Y EQUIPO - CONSTRUCCIONES Y EDIFICACIONES
H13: =+'CLIENTES Bo'!J5 -> Corte al 15 de Octubre de 2024
A14: ITEM | B14: BIEN | C14: MATRICULA INMOBILIARIA | D14: DIRECCION | E14: CIUDAD | F14: LIMITACION DE DOMINIO | G14: DESCRIPCION | H14: VALOR
A15: 1 | B15: Tienda Ventura Plaza | C15: N/A | D15: CALLE 10 Y 11 DIAGONAL SANTANDER SECTOR QUINTA VELEZ CENTRO COMERCIAL VENTURA PLAZA | E15: cucuta | F15: NO | G15: LOCAL COMERCIAL | H15: 1.7320436e+08
A16: =+A15+1 -> 2 | B16: Tienda Pinar del Rio | C16: N/A | D16: AV 10 # 61-60 LOTE 1 14B PINAR DEL RIO | E16: cucuta | F16: NO | G16: LOCAL COMERCIAL | H16: 1.0676187e+08
A17: =+A16+1 -> 3 | B17: Tienda Prados del Este | C17: N/A | D17: AV 5C # 5-05 LOTE # 19, MANAZANA 19- UBR PRADOS DEL ESTE | E17: cucuta | F17: NO | G17: LOCAL COMERCIAL | H17: 2.4717423e+08
A18: =+A17+1 -> 4 | B18: Tienda Quinta Oriental | C18: N/A | D18: AV 8 E #2-135 QUINTA ORIENTAL LOCAL 1 | E18: cucuta | F18: NO | G18: LOCAL COMERCIAL | H18: 67292045
A19: =+A18+1 -> 5 | B19: Tienda Guaimaral | C19: N/A | D19: AV 11 E #11N-109 LOTE 2 CALLE 13 N # 11-E-17 | E19: cucuta | F19: NO | G19: LOCAL COMERCIAL | H19: 4.30381e+08
A20: =+A19+1 -> 6 | B20: Centro de Distribucion | C20: N/A | D20: AV 2 CALLE 15 Y 16 # 15-35-59-63 BARRIO LA PLAYA | E20: cucuta | F20: NO | G20: LOCAL COMERCIAL | H20: 2.5996906e+08
A21: =+A20+1 -> 7 | B21: Diagonal Santander | C21: N/A | D21: CALLE 12 #5E-101 LOTE 2-2 LOCAL # 1 | E21: cucuta | F21: NO | G21: LOCAL COMERCIAL | H21: 7.3461194e+08
A22: =+A21+1 -> 8 | B22: Tienda la nota Bar Jardin plaza | C22: N/A | D22: CENTRO COMERCIAL JARDIN PLAZA RM14-RM15-RM36 | E22: cucuta | F22: NO | G22: LOCAL COMERCIAL | H22: 1.2341758e+09
A23: =+A22+1 -> 9 | B23: Tienda la nota Bar Ventura | C23: N/A | D23: LOCAL 2 URBANIZACION QUINTA VELEZ EDIFICIO VENTURA PLAZA | E23: cucuta | F23: NO | G23: LOCAL COMERCIAL | H23: 3.6906043e+08
A24: =+A23+1 -> 10 | B24: Administrativo City Place | C24: N/A | D24: Barrio Colsag av libertadores Nro 7A-50 | E24: cucuta | F24: NO | G24: LOCAL COMERCIAL | H24: 6.4655802e+08
A25: =+A24+1 -> 11 | B25: Tienda NotaW | C25: N/A | D25: CALLE 10-11 DIAGONAL SANTANDER | E25: cucuta | F25: NO | G25: LOCAL COMERCIAL | H25: 37032008
A26: =+A25+1 -> 12 | B26: medición valor razonable | C26: N/A | D26: Barrio Colsag av libertadores Nro 7A-50 | E26: cucuta | F26: NO | G26: LOCAL COMERCIAL | H26: 879722617
A27: TOTAL CONSTRUCCIONES Y EDIFICACIONES | H27: =SUM(H15:H26) -> 5.1859434e+09
A29: PROPIEDAD PLANTA Y EQUIPO - MUEBLES Y ENSERES
A30: ITEM | B30: BIEN | C30: SERIE | D30: CANTIDAD | E30: CIUDAD | F30: MARCA | G30: ESTADO | H30: VALOR ACTUAL
A31: 1 | B31: IMPRESORA MULTIFUNCIONAL L3110 | E31: cucuta | G31: Activo | H31: 100774.8
A32: =+A31+1 -> 2 | B32: IMPRESORA MULTIFUNCIONAL L3110 | E32: cucuta | G32: Activo | H32: 100774.8
A33: =+A32+1 -> 3 | B33: IMPRESORA MULTIFUNCIONAL L3160 Y PORTATIL PENT G256GB | E33: cucuta | G33: Activo | H33: 169884
A34: =+A33+1 -> 4 | B34: MULTIFUNCIONAL WIFI L3160 Y PORTATIL PENT G 256GB SSD | E34: cucuta | G34: Activo | H34: 321860
A35: =+A34+1 -> 5 | B35: MUEBLES Y ENSERES (SANDRA YANETH RAMOS) | E35: cucuta | G35: Activo | H35: 52000
A36: =+A35+1 -> 6 | B36: MESA 2,0*60 | E36: cucuta | G36: Activo | H36: 82000
A37: =+A36+1 -> 7 | B37: MESA 2,30*60 | E37: cucuta | G37: Activo | H37: 90000
A38: =+A37+1 -> 8 | B38: MESA 60*60 | E38: cucuta | G38: Activo | H38: 152000
A39: =+A38+1 -> 9 | B39: MESA 1,20*60 | E39: cucuta | G39: Activo | H39: 208000
A40: =+A39+1 -> 10 | B40: MESA 3,30*60 | E40: cucuta | G40: Activo | H40: 280000
A41: =+A40+1 -> 11 | B41: MESA 60*60 | E41: cucuta | G41: Activo | H41: 342000
A42: =+A41+1 -> 12 | B42: SILLAS (HERNAN ROJAS) | E42: cucuta | G42: Activo | H42: 58000
A43: =+A42+1 -> 13 | B43: MUEBLES Y ENSERES (Sodimac) | E43: cucuta | G43: Activo | H43: 59980
...

Sheet ACTIVOS NO CORRIENTES Bo. (2)
A1: LA NOTA COLOMBIA SAS
A2: NIT 901233167-1
A3: INVENTARIO DE ACTIVOS - ACTIVOS FIJOS
I4: =+'ACTIVOS NO CORRIENTES Bo. (1)'!H13 -> Corte al 15 de Octubre de 2024
A5: PROPIEDAD PLANTA Y EQUIPO - MAQUINARIA Y EQUIPO
A6: ITEM | B6: BIEN | C6: SERIE | D6: CANTIDAD | E6: UBICACIÓN | F6: CIUDAD | G6: MARCA | H6: ESTADO | I6: VALOR ACTUAL
A7: 1 | B7: PLATILLERA EN ACERO INOX 304.DE 1,00 DE PARED (Pablo Daza) | F7: cucuta | H7: activo | I7: 110000
A8: =+A7+1 -> 2 | B8: PLATILLERA EN ACERO INOX 304 DE 1,00 DE PARED (Pablo Daza) | F8: cucuta | H8: activo | I8: 110000.03
A9: =+A8+1 -> 3 | B9: ASADOR AHUMADOR DE BARRIL CILINDRICO DE 40 CM (Pablo Daza) | F9: cucuta | H9: activo | I9: 144000
A10: =+A9+1 -> 4 | B10: DUCTO LAMIAN GALVANIZADO DE 40X40, CODO EN GALVANIZADO, FALDON DE CAMPANA (Pablo Daza) | C10: . | F10: cucuta | H10: activo | I10: 342000.05
A11: =+A10+1 -> 5 | B11: (1)ACOPLE, (1) GUARDO MOTOR, (1) GUARDA MOTOR , (1) DUCTO LAMINA GALVANIZADO (Pablo Daza)FE 537 | C11: . | F11: cucuta | H11: activo | I11: 365999.97
A12: =+A11+1 -> 6 | B12: SARTEN 26CM ANODIZA (SODIMAC) | C12: . | F12: cucuta | H12: activo | I12: 25960
A13: =+A12+1 -> 7 | B13: MUEBLES (ASTRID TERESA PABON GRIMALDI) | C13: . | F13: cucuta | H13: activo | I13: 115060
A14: =+A13+1 -> 8 | B14: (1) FORMADORA DE HAMBURGUESAS IMPORTADA DE 13 CM (PABLO DAZA) | C14: . | F14: cucuta | H14: activo | I14: 107562
A15: =+A14+1 -> 9 | B15: DUCTO DE 90Z20 FABRICADO EN ACERO INOX CON CAJA PARA ADAPTAR | C15: . | F15: cucuta | H15: activo | I15: 40000
A16: =+A15+1 -> 10 | B16: (1)MESA PARA MAQUINA DE 80X70X90 EN ACERO, (1)MESA PASA PLATOS DE 80X60X90 EN ACERO, (1) MESA DE APOYO DE 90X60 FABRICADO EN ACERO INOXIDABLE, SERVICIO DE PULIDA (PABLO DAZA) | C16: . | F16: cucuta | H16: activo | I16: 481983.31
A17: =+A16+1 -> 11 | B17: (1) PLATAFORMA BAJO PERFIL (BANCOLOMBIA) | C17: . | F17: cucuta | H17: activo | I17: 368823.53
A18: =+A17+1 -> 12 | B18: (1) INDUSTRY-20 INDICADOR (BANCOLOMBIA) | C18: . | F18: cucuta | H18: activo | I18: 86218.656
A19: =+A18+1 -> 13 | B19: (1)ESCABILADERO 15 BANDEJAS, (1) ESCABILADERO DE 6 BANDEJAS, (12) BANDEJAS TROQUELADAS 65X45 EN ALUMINIO | C19: . | F19: cucuta | H19: activo | I19: 342572.4
A20: =+A19+1 -> 14 | B20: MESA DE 185X70 FABRICADA EN ACERO INOXIDABLE CON REPISA SUPERIOR DE APOYO DE 40CM BASE EN TUBO REDONDO (PABLO DAZA) | C20: . | F20: cucuta | H20: activo | I20: 369748
A21: =+A20+1 -> 15 | B21: CARRO PLATAFORMA ZORRA PLEGABLE (TUFERRETERIA.COM SAS) | C21: . | F21: cucuta | H21: activo | I21: 109980
... A235: =+A234+1 -> 229 | B235: CONGELADORA HORIZONTAL ELECTROLUX 150 LT | C235: . | F235: cucuta | H235: activo | I235: 380000
A236: =+A235+1 -> 230 | B236: LICUADORA INDUSTRIAL 1,5 LT | F236: cucuta | H236: activo | I236: 398268
A237: =+A236+1 -> 231 | B237: FORMADORA DE HAMBURGUESAS | F237: cucuta | H237: activo | I237: 136000
A238: =+A237+1 -> 232 | B238: MAQUINARIA Y EQUIPO | F238: cucuta | H238: activo | I238: 28000
A239: =+A238+1 -> 233 | B239: CANASTA FREIDORA DE PAPAS | F239: cucuta | H239: activo | I239: 80000
A240: =+A239+1 -> 234 | B240: PARLANTE TECHO 8128 BLANCO | F240: cucuta | H240: activo | I240: 140504.2
A241: =+A240+1 -> 235 | B241: PARLANTE AMBIENTAL QSC AC | F241: cucuta | H241: activo | I241: 221932.8
A242: =+A241+1 -> 236 | B242: AMPLIFICADOR AMBIENTAL | F242: cucuta | H242: activo | I242: 344363
A243: =+A242+1 -> 237 | B243: PARLANTE DE TECHO 8124 | F243: cucuta | H243: activo | I243: 63865.6
A244: =+A243+1 -> 238 | B244: PARLANTE TECHO Y AMPLIFICADOR AMBIENTAL | F244: cucuta | H244: activo | I244: 139721.8
A245: =+A244+1 -> 239 | B245: AMPLIFICADOR AMBIENTAL CON PARLANTES DE TECHO | F245: cucuta | H245: activo | I245: 231512.6
A246: =+A245+1 -> 240 | B246: SOBRE PARA CAMPANA EXTRACTORA | F246: cucuta | H246: activo | I246: 67227
A247: =+A246+1 -> 241 | B247: SOBRE PARA CAMPANA EXTRACTORA | F247: cucuta | H247: activo | I247: 73949.8
... A269: =+A268+1 -> 263 | B269: ESPEJOS PERSONALIZADOS | F269: cucuta | H269: activo | I269: 342000
A270: =+A269+1 -> 264 | B270: (15)PANERA HACER, (1)JARRA MEDIDORA, (1)DOCENA CUCHARITAS POSTRE SIGMA,(1) CHAIRA ACERO INOXIDABEL 8 PARATY, (2)ESPUMADERA DOMESTICA CADERO INOXIDABLE,(1) COLADOR PLASTICO CONIO 7 CMS,(2) PINZA CUCHARA ACERO INOXIDABLE,(2) CALDERO ALUMINIO,(15) VASO TEQUILLERO, (2)SALSERO PIMENTERO,(1) CUCHARAS, (1)DESCORCHADOR (Alumar) | C270: . | F270: cucuta | H270: activo | I270: 217708
A271: =+A270+1 -> 265 | B271: ESPEJOS PERSONALIZADOS | F271: cucuta | H271: activo | I271: 98000
A272: =+A271+1 -> 266 | B272: CAJON MONEDERO NEWPRINT, E IMPRESORA POS TERMICA NP REF7800-S (max printer) | C272: . | F272: cucuta | H272: activo | I272: 183000
A273: =+A272+1 -> 267 | B273: ASADOR CILILINDRICO EN ACERO INOX DE 50 CM DE DIAMETRO X 80 | F273: cucuta | H273: activo | I273: 160018.2
A274: =+A273+1 -> 268 | B274: MAQUINARIA Y EQUIPO (Pablo Daza) | F274: cucuta | H274: activo | I274: 380000
...

Sheet MAYOR 90 DIAS
A1: =+'DISPONIBLE Bo'!A1 -> LA NOTA COLOMBIA SAS
A2: =+'DISPONIBLE Bo'!A2 -> NIT 901233167-1
A4: RELACION TOTAL PASIVO
A6: No. | B6: Nit | C6: Nombre Acreedor | D6: Domicilio Acreedor | E6: Numero de la Obligacion | F6: Capital | G6: Interés Pactado | H6: Fecha Generación | I6: Fecha Termenación Crédito | J6: Dias Mora | K6: Soporte | L6: Valor Total | M6: Valor por Entidad | N6: Corte a:
A7: 1 | B7: 80310468 | C7: ANTONIO RODRIGUEZ | E7: CC-000092 | F7: 131256000 | G7: 0 | H7: 41395 | I7: 41395 | J7: =+N7-I7 -> 668 | K7: Pagare | L7: 91154000 | M7: 91154000 | N7: 42063
A8: 2 | B8: 496347 | C8: RAMOS GUILLERMO | E8: NA-000008 | F8: 10000000 | G8: 0 | H8: 41609 | I8: 41699 | J8: =#N/A -> #N/A | K8: Pagare | L8: 10000000 | M8: 10000000 | N8: 42063
A9: 3 | B9: 17150211 | C9: PULIDO RODROGIEZ JOSE ENRIQUE | E9: NA-000009 | F9: 20000000 | G9: 0 | H9: 41640 | I9: 41730 | J9: =#N/A -> #N/A | K9: Pagare | L9: 20000000 | M9: 20000000 | N9: 42063
A10: 4 | C10: JORGE GIL GUTIERREZ | E10: OI-000035 | F10: 25000000 | G10: 0 | H10: 40835 | I10: 40925 | J10: =#N/A -> #N/A | K10: Pagare | L10: 25000000 | M10: 25000000 | N10: 42063
A11: 5 | B11: 19306049 | C11: RUIZ TRIVIÑO CARLOS HERNAN | F11: 138485000 | G11: 0 | H11: 41648 | I11: 41738 | J11: =#N/A -> #N/A | K11: Pagare | L11: =+F11-61973385 -> 76511615 | M11: =+L11 -> 76511615 | N11: 42063
A12: 6 | B12: 51560780 | C12: RODRIGUEZ RODRIGUEZ MARTHA LAUDICES | E12: CC-000057 | F12: 164915177 | G12: 0 | H12: 40189 | I12: 40279 | J12: =#N/A -> #N/A | K12: Pagare | L12: 164915177 | M12: 164915177 | N12: 42063
A13: 7 | B13: 800147371-1 | C13: CAMARPLAST Y CIA LDA | D13: CRA 34 12B 41 | E13: CRA 34 12B 41 | F13: 6253850 | G13: 0 | H13: 41968 | I13: =+H13+60 -> 42028 | J13: =#N/A -> #N/A | K13: FACTURA No 51414 | L13: 0 | M13: =SUM(L13:L27) -> 0 | N13: 42063
F14: 7286700 | G14: 0 | H14: 41978 | I14: =#N/A -> #N/A | J14: =#N/A -> #N/A | K14: FACTURA No 51466 | L14: 0 | N14: 42063
F15: 4812400 | G15: 0 | H15: 41981 | I15: =#N/A -> #N/A | J15: =#N/A -> #N/A | K15: FACTURA No 51481 | L15: 0 | N15: 42063
F16: 5765800 | G16: 0 | H16: 41977 | I16: =#N/A -> #N/A | J16: =#N/A -> #N/A | K16: FACTURA No 51449 | L16: 0 | N16: 42063
F17: 4801050 | G17: 0 | H17: 41986 | I17: =#N/A -> #N/A | J17: =#N/A -> #N/A | K17: FACTURA No 51515 | L17: 0 | N17: 42063
F18: 6197100 | G18: 0 | H18: 41994 | I18: =#N/A -> #N/A | J18: =#N/A -> #N/A | K18: FACTURA No 51559 | L18: 0 | N18: 42063
F19: 4857800 | G19: 0 | H19: 42001 | I19: =#N/A -> #N/A | J19: =#N/A -> #N/A | K19: FACTURA No 51585 | L19: 0 | N19: 42063
F20: 7309400 | G20: 0 | H20: 42007 | I20: =#N/A -> #N/A | J20: =#N/A -> #N/A | K20: FACTURA No 51610 | L20: 0 | N20: 42063
F21: 5765800 | G21: 0 | H21: 42015 | I21: =#N/A -> #N/A | J21: =#N/A -> #N/A | K21: FACTURA No 51654 | L21: 0 | N21: 42063
F22: 5913350 | G22: 0 | H22: 42019 | I22: =#N/A -> #N/A | J22: =#N/A -> #N/A | K22: FACTURA No 51672 | L22: 0 | N22: 42063
F23: 9908550 | G23: 0 | H23: 42021 | I23: =#N/A -> #N/A | J23: =#N/A -> #N/A | K23: FACTURA No 51700 | L23: 0 | N23: 42063
F24: 9829100 | G24: 0 | H24: 42009 | I24: =#N/A -> #N/A | J24: =#N/A -> #N/A | K24: FACTURA No 51753 | L24: 0 | N24: 42063
F25: 8047150 | G25: 0 | H25: 42023 | I25: =#N/A -> #N/A | J25: =#N/A -> #N/A | K25: FACTURA No 51782 | L25: 0 | N25: 42063
... F27: 6038200 | G27: 0 | H27: 42037 | I27: =#N/A -> #N/A | J27: =#N/A -> #N/A | K27: FACTURA No 51844 | L27: 0 | N27: 42063
A28: 7 | B28: 800179761-8 | C28: RESISTENCIAS RODHER S.A.S | D28: Cra 67 No 11 - 26 | E28: Cra 67 No 11 - 26 | F28: 36888 | G28: 0 | H28: 41765 | I28: =+H28+60 -> 41825 | J28: =#N/A -> #N/A | K28: FACTURA No 86131 | L28: 36888 | M28: =SUM(L28:L46) -> 20740505 | N28: 42063
F29: 100509.36 | G29: 0 | H29: 41734 | I29: =#N/A -> #N/A | J29: =#N/A -> #N/A | K29: FACTURA No 85640 | L29: 100509.36 | N29: 42063
F30: 77140 | G30: 0 | H30: 41714 | I30: =#N/A -> #N/A | J30: =#N/A -> #N/A | K30: FACTURA No 85283 | L30: 77140 | N30: 42063
F31: 18096 | G31: 0 | H31: 41688 | I31: =#N/A -> #N/A | J31: =#N/A -> #N/A | K31: FACTURA No 85096 | L31: 18096 | N31: 42063
F32: 351736 | G32: 0 | H32: 41683 | I32: =#N/A -> #N/A | J32: =#N/A -> #N/A | K32: FACTURA No 85008 | L32: 351736 | N32: 42063
F33: 8644750 | G33: 0 | H33: 41677 | I33: =#N/A -> #N/A | J33: =#N/A -> #N/A | K33: FACTURA No 84906 | L33: 8644750 | N33: 42063
F34: 293552 | G34: 0 | H34: 41672 | I34: =#N/A -> #N/A | J34: =#N/A -> #N/A | K34: FACTURA No 84774 | L34: 293552 | N34: 42063
F35: 356896.5 | G35: 0 | H35: 41660 | I35: =#N/A -> #N/A | J35: =#N/A -> #N/A | K35: FACTURA No 84602 | L35: 356896.5 | N35: 42063
F36: 654175.2 | G36: 0 | H36: 41659 | I36: =#N/A -> #N/A | J36: =#N/A -> #N/A | K36: FACTURA No 84596 | L36: 654175.2 | N36: 42063
F37: 130500 | G37: 0 | H37: 41659 | I37: =#N/A -> #N/A | J37: =#N/A -> #N/A | K37: FACTURA No 84586 | L37: 130500 | N37: 42063
F38: 458200 | G38: 0 | H38: 41655 | I38: =#N/A -> #N/A | J38: =#N/A -> #N/A | K38: FACTURA No 84532 | L38: 458200 | N38: 42063
F39: 458200 | G39: 0 | H39: 41645 | I39: =#N/A -> #N/A | J39: =#N/A -> #N/A | K39: FACTURA No 84355 | L39: 458200 | N39: 42063
F40: 2565000 | G40: 0 | H40: 41998 | I40: =#N/A -> #N/A | J40: =#N/A -> #N/A | K40: FACTURA No 84161 | L40: 0 | N40: 42063
... F46: 609862 | G46: 0 | H46: 41626 | I46: =#N/A -> #N/A | J46: =#N/A -> #N/A | K46: FACTURA No 84017 | L46: 609862 | N46: 42063
A47: 9 | B47: 830031442-6 | C47: ASISTECNING LTDA | D47: Cra 69 37 b 16 SUR | E47: Cra 69 37 b 16 SUR | F47: 1645750 | G47: 0 | H47: 41966 | I47: =#N/A -> #N/A | J47: =#N/A -> #N/A | K47: FACTURA No 2740 | L47: 0 | M47: =SUM(L47:L52) -> 0 | N47: 42063
F48: 1540422 | G48: 0 | H48: 42015 | I48: =#N/A -> #N/A | J48: =#N/A -> #N/A | K48: FACTURA No 2772 | L48: 0 | N48: 42063
...

Sheet PROVEEDORES Bo.
A1: LA NOTA COLOMBIA SAS
A2: NIT 901233167-1
A4: INVENTARIO DE PASIVOS - PROVEEDORES
J5: =+'DISPONIBLE Bo'!F5 -> Corte al 15 de Octubre de 2024
A6: No | B6: PROVEEDOR | C6: ID | D6: DIRECCIÓN | E6: CIUDAD | F6: FECHA DE ORIGEN | G6: VENCIMIENTO | H6: DOCUMENTO | I6: TOTAL | J6: TOTAL POR TERCERO
A7: 1 | B7: AJOVER DARNEL SAS | C7: 860013771-7 | D7: TRANSVERSAL 93 N° 65A-30 11001 - Bogota D.C. | E7: BOGOTA | F7: 45546 | G7: 45576 | H7: AFE5918066 | I7: 467670 | J7: =SUM(I7:I16) -> 3396022
A8: 2 | B8: AJOVER DARNEL SAS | C8: 860013771-7 | D8: TRANSVERSAL 93 N° 65A-30 11001 - Bogota D.C. | E8: BOGOTA | F8: 45546 | G8: 45576 | H8: AFE5918461 | I8: 436135
A9: 3 | B9: AJOVER DARNEL SAS | C9: 860013771-7 | D9: TRANSVERSAL 93 N° 65A-30 11001 - Bogota D.C. | E9: BOGOTA | F9: 45552 | G9: 45582 | H9: AFE5937678 | I9: 603211
A10: 4 | B10: AJOVER DARNEL SAS | C10: 860013771-7 | D10: TRANSVERSAL 93 N° 65A-30 11001 - Bogota D.C. | E10: BOGOTA | F10: 45557 | G10: 45587 | H10: AFE5952603 | I10: 47600
A11: 5 | B11: AJOVER DARNEL SAS | C11: 860013771-7 | D11: TRANSVERSAL 93 N° 65A-30 11001 - Bogota D.C. | E11: BOGOTA | F11: 45570 | G11: 45600 | H11: AFE5992978 | I11: 132566
A12: 6 | B12: AJOVER DARNEL SAS | C12: 860013771-8 | D12: TRANSVERSAL 93 N° 65A-30 11001 - Bogota D.C. | E12: BOGOTA | F12: 45572 | G12: 45602 | H12: AFE5994745 | I12: 485520
A13: 7 | B13: AJOVER DARNEL SAS | C13: 860013771-9 | D13: TRANSVERSAL 93 N° 65A-30 11001 - Bogota D.C. | E13: BOGOTA | F13: 45573 | G13: 45603 | H13: AFE5998754 | I13: 189567
A14: 8 | B14: AJOVER DARNEL SAS | C14: 860013771-10 | D14: TRANSVERSAL 93 N° 65A-30 11001 - Bogota D.C. | E14: BOGOTA | F14: 45575 | G14: 45605 | H14: AFE6006775 | I14: 579054
A15: 9 | B15: AJOVER DARNEL SAS | C15: 860013771-11 | D15: TRANSVERSAL 93 N° 65A-30 11001 - Bogota D.C. | E15: BOGOTA | F15: 45575 | G15: 45605 | H15: AFE6007419 | I15: 265132
A16: 10 | B16: AJOVER DARNEL SAS | C16: 860013771-12 | D16: TRANSVERSAL 93 N° 65A-30 11001 - Bogota D.C. | E16: BOGOTA | F16: 45576 | G16: 45606 | H16: AFE6010802 | I16: 189567
A17: 11 | B17: ANCLA Y VIENTO SAS | C17: 830026818-1 | D17: CRA 116 N° 22H - 31 Bogota D.C. | E17: BOGOTA | F17: 45554 | G17: 45569 | H17: FC1242938 | I17: 2334450 | J17: =SUM(I17:I24) -> 26572718
A18: 12 | B18: ANCLA Y VIENTO SAS | C18: 830026818-1 | D18: CRA 116 N° 22H - 31 Bogota D.C. | E18: BOGOTA | F18: 45558 | G18: 45573 | H18: FC1243367 | I18: 1704562.2
A19: 13 | B19: ANCLA Y VIENTO SAS | C19: 830026818-1 | D19: CRA 116 N° 22H - 31 Bogota D.C. | E19: BOGOTA | F19: 45558 | G19: 45573 | H19: FC1243373 | I19: 6217143
A20: 14 | B20: ANCLA Y VIENTO SAS | C20: 830026818-1 | D20: CRA 116 N° 22H - 31 Bogota D.C. | E20: BOGOTA | F20: 45561 | G20: 45576 | H20: FC1243963 | I20: 2334450
A21: 15 | B21: ANCLA Y VIENTO SAS | C21: 830026818-1 | D21: CRA 116 N° 22H - 31 Bogota D.C. | E21: BOGOTA | F21: 45566 | G21: 45581 | H21: FC1244297 | I21: 4728665
A22: 16 | B22: ANCLA Y VIENTO SAS | C22: 830026818-1 | D22: CRA 116 N° 22H - 31 Bogota D.C. | E22: BOGOTA | F22: 45568 | G22: 45583 | H22: FC1244929 | I22: 1327990
A23: 17 | B23: ANCLA Y VIENTO SAS | C23: 830026818-1 | D23: CRA 116 N° 22H - 31 Bogota D.C. | E23: BOGOTA | F23: 45572 | G23: 45587 | H23: FC1245335 | I23: 2371791.4
A24: 18 | B24: ANCLA Y VIENTO SAS | C24: 830026818-1 | D24: CRA 116 N° 22H - 31 Bogota D.C. | E24: BOGOTA | F24: 45575 | G24: 45590 | H24: FC1245964 | I24: 5553666
A25: 19 | B25: ANDRES FELIPE DUARTE CARRILLO | C25: 1010090258-5 | D25: MZ 5 CASA 19 LA CAMPIÑA Los Patios | E25: CUCUTA | F25: 45310 | G25: 45310 | H25: FCDSE8812 | I25: 999594 | J25: =SUM(I25:I26) -> 1079594
A26: 20 | B26: ANDRES FELIPE DUARTE CARRILLO | C26: 1010090258-5 | D26: MZ 5 CASA 19 LA CAMPIÑA Los Patios | E26: CUCUTA | F26: 45322 | G26: 45322 | H26: FCDSE9010 | I26: 80000
A27: 21 | B27: ARTE IMPRESO CUCUTA S.A.S | C27: 900582639-7 | D27: CLL 15 2 56 BRR LA PLAYA | E27: CUCUTA | F27: 45169 | G27: 45199 | H27: AI2881 | I27: 1411550 | J27: =SUM(I27:I63) -> 51613815
A28: 22 | B28: ARTE IMPRESO CUCUTA S.A.S | C28: 900582639-7 | D28: CLL 15 2 56 BRR LA PLAYA | E28: CUCUTA | F28: 45173 | G28: 45203 | H28: AI2891 | I28: 1747500
A29: 23 | B29: ARTE IMPRESO CUCUTA S.A.S | C29: 900582639-7 | D29: CLL 15 2 56 BRR LA PLAYA | E29: CUCUTA | F29: 45174 | G29: 45204 | H29: AI2893 | I29: 1808662.5
A30: 24 | B30: ARTE IMPRESO CUCUTA S.A.S | C30: 900582639-7 | D30: CLL 15 2 56 BRR LA PLAYA | E30: CUCUTA | F30: 45178 | G30: 45208 | H30: AI2904 | I30: 2796000
A31: 25 | B31: ARTE IMPRESO CUCUTA S.A.S | C31: 900582639-7 | D31: CLL 15 2 56 BRR LA PLAYA | E31: CUCUTA | F31: 45180 | G31: 45210 | H31: AI2909 | I31: 3436750
A32: 26 | B32: ARTE IMPRESO CUCUTA S.A.S | C32: 900582639-7 | D32: CLL 15 2 56 BRR LA PLAYA | E32: CUCUTA | F32: 45196 | G32: 45226 | H32: AI2959 | I32: 665797.5
A33: 27 | B33: ARTE IMPRESO CUCUTA S.A.S | C33: 900582639-7 | D33: CLL 15 2 56 BRR LA PLAYA | E33: CUCUTA | F33: 45196 | G33: 45226 | H33: AI2960 | I33: 1535178.8
A34: 28 | B34: ARTE IMPRESO CUCUTA S.A.S | C34: 900582639-7 | D34: CLL 15 2 56 BRR LA PLAYA | E34: CUCUTA | F34: 45202 | G34: 45232 | H34: AI2975 | I34: 1438775
A35: 29 | B35: ARTE IMPRESO CUCUTA S.A.S | C35: 900582639-7 | D35: CLL 15 2 56 BRR LA PLAYA | E35: CUCUTA | F35: 45204 | G35: 45234 | H35: AI2990 | I35: 640000
A36: 30 | B36: ARTE IMPRESO CUCUTA S.A.S | C36: 900582639-7 | D36: CLL 15 2 56 BRR LA PLAYA | E36: CUCUTA | F36: 45204 | G36: 45234 | H36: AI2990 | I36: 121600
A37: 31 | B37: ARTE IMPRESO CUCUTA S.A.S | C37: 900582639-7 | D37: CLL 15 2 56 BRR LA PLAYA | E37: CUCUTA | F37: 45218 | G37: 45248 | H37: AI3034 | I37: 1880310
A38: 32 | B38: ARTE IMPRESO CUCUTA S.A.S | C38: 900582639-7 | D38: CLL 15 2 56 BRR LA PLAYA | E38: CUCUTA | F38: 45220 | G38: 45250 | H38: AI3042 | I38: 1041250
A39: 33 | B39: ARTE IMPRESO CUCUTA S.A.S | C39: 900582639-7 | D39: CLL 15 2 56 BRR LA PLAYA | E39: CUCUTA | F39: 45224 | G39: 45254 | H39: AI3048 | I39: 635000
... A63: 57 | B63: ARTE IMPRESO CUCUTA S.A.S | C63: 900582639-7 | D63: CLL 15 2 56 BRR LA PLAYA | E63: CUCUTA | F63: 45352 | G63: 45382 | H63: AI3391 | I63: 2766875
A64: 58 | B64: ATLANTIC FS SAS | C64: 900040299-0 | D64: AVENIDA 5 NRO 2 47 CENTRO | E64: CUCUTA | F64: 45295 | G64: 45340 | H64: 1660139299 | I64: 5177084.5 | J64: =SUM(I64:I78) -> 1.8175756e+08
...

Sheet COSTOS Y GASTOS POR PAGAR B
A2: =+'DISPONIBLE Bo'!A1:F1 -> LA NOTA COLOMBIA SAS
A3: =+'DISPONIBLE Bo'!A2:F2 -> NIT 901233167-1
J4: =+'DISPONIBLE Bo'!F5 -> Corte al 15 de Octubre de 2024
A5: INVENTARIO DE PASIVOS - OTRAS CUENTAS POR PAGAR COSTOS Y GASTOS
A6: No | B6: PROVEEDOR | C6: ID | D6: DIRECCIÓN | E6: CIUDAD | F6: FECHA DE ORIGEN | G6: VENCIMIENTO | H6: DOCUMENTO | I6: TOTAL | J6: TOTAL POR DEUDOR
A7: 1 | B7: AEROPUERTOS DE ORIENTE SAS | C7: 900373778-6 | D7: AEROPUERTO SIMON BOLIVAR | E7: CUCUTA | F7: 45237 | G7: 45237 | H7: FCB10AINR3705 | I7: 4760000 | J7: =SUM(I7:I14) -> 36633446
C8: 900373778-6 | D8: AEROPUERTO SIMON BOLIVAR | E8: CUCUTA | F8: 45265 | G8: 45272 | H8: FCB10AINR4180 | I8: 4864085.7
C9: 900373778-6 | D9: AEROPUERTO SIMON BOLIVAR | E9: CUCUTA | F9: 45303 | G9: 45310 | H9: FCB10AINR4709 | I9: 5384512
C10: 900373778-6 | D10: AEROPUERTO SIMON BOLIVAR | E10: CUCUTA | F10: 45330 | G10: 45337 | H10: FCB10AINR5192 | I10: 5384512
C11: 900373778-6 | D11: AEROPUERTO SIMON BOLIVAR | E11: CUCUTA | F11: 45359 | G11: 45366 | H11: FCB10AINR5700 | I11: 5384512
C12: 900373778-6 | D12: AEROPUERTO SIMON BOLIVAR | E12: CUCUTA | F12: 45386 | G12: 45393 | H12: FCB10AINR5947 | I12: 5384512
C13: 900373778-6 | D13: AEROPUERTO SIMON BOLIVAR | E13: CUCUTA | F13: 45418 | G13: 45425 | H13: FCB10AINR6602 | I13: 5384512
C14: 900373778-6 | D14: AEROPUERTO SIMON BOLIVAR | E14: CUCUTA | F14: 45385 | G14: 45385 | H14: FCB10SKCC22444 | I14: 86800
A15: 2 | B15: AGROPECUARIA ALIAR SA | C15: 890207037-1 | D15: CALLE 21 N° 23 45 | E15: BUCARAMANGA | F15: 45580 | G15: 45580 | H15: 105174106 | I15: 4899227 | J15: =+I15 -> 4899227
A16: 3 | B16: AGUAS KPITAL CUCUTA SA ESP | C16: 900080956-2 | D16: AVENIDA 6 CALLE 11 ESQUINA EDIFICIO SAN JOSE | E16: CUCUTA | F16: 45385 | G16: 45394 | H16: 46980874 | I16: 298400 | J16: =SUM(I16:I44) -> 7176420
C17: 900080956-2 | D17: AVENIDA 6 CALLE 11 ESQUINA EDIFICIO SAN JOSE | E17: CUCUTA | F17: 45416 | G17: 45426 | H17: 47197328 | I17: 514030
C18: 900080956-2 | D18: AVENIDA 6 CALLE 11 ESQUINA EDIFICIO SAN JOSE | E18: CUCUTA | F18: 45448 | G18: 45455 | H18: 47411481 | I18: 397140
C19: 900080956-2 | D19: AVENIDA 6 CALLE 11 ESQUINA EDIFICIO SAN JOSE | E19: CUCUTA | F19: 45450 | G19: 45462 | H19: 47466734 | I19: 527930
C20: 900080956-2 | D20: AVENIDA 6 CALLE 11 ESQUINA EDIFICIO SAN JOSE | E20: CUCUTA | F20: 45477 | G20: 45486 | H20: 47628834 | I20: 77500
C21: 900080956-2 | D21: AVENIDA 6 CALLE 11 ESQUINA EDIFICIO SAN JOSE | E21: CUCUTA | F21: 45482 | G21: 45491 | H21: 47684212 | I21: 591620
C22: 900080956-2 | D22: AVENIDA 6 CALLE 11 ESQUINA EDIFICIO SAN JOSE | E22: CUCUTA | F22: 45482 | G22: 45491 | H22: 53416077 | I22: 247070
C23: 900080956-2 | D23: AVENIDA 6 CALLE 11 ESQUINA EDIFICIO SAN JOSE | E23: CUCUTA | F23: 45482 | G23: 45491 | H23: 53416080 | I23: 54690
C24: 900080956-2 | D24: AVENIDA 6 CALLE 11 ESQUINA EDIFICIO SAN JOSE | E24: CUCUTA | F24: 45491 | G24: 45501 | H24: 47752200 | I24: 77540
C25: 900080956-2 | D25: AVENIDA 6 CALLE 11 ESQUINA EDIFICIO SAN JOSE | E25: CUCUTA | F25: 45493 | G25: 45503 | H25: 47746013 | I25: 464070
C26: 900080956-2 | D26: AVENIDA 6 CALLE 11 ESQUINA EDIFICIO SAN JOSE | E26: CUCUTA | F26: 45509 | G26: 45518 | H26: 47848583 | I26: 76080
C27: 900080956-2 | D27: AVENIDA 6 CALLE 11 ESQUINA EDIFICIO SAN JOSE | E27: CUCUTA | F27: 45515 | G27: 45525 | H27: 47903649 | I27: 581620
C28: 900080956-2 | D28: AVENIDA 6 CALLE 11 ESQUINA EDIFICIO SAN JOSE | E28: CUCUTA | F28: 45515 | G28: 45525 | H28: 47903918 | I28: 71970
... C44: 900080956-2 | D44: AVENIDA 6 CALLE 11 ESQUINA EDIFICIO SAN JOSE | E44: CUCUTA | F44: 45574 | G44: 45585 | H44: 54489042 | I44: 338850
A45: 4 | B45: ALCIDES MARIN RIVERA | C45: 71600416-3 | D45: AV 7 6 39 BRR SAN LUIS | E45: CUCUTA | F45: 45085 | G45: 45085 | H45: 404 | I45: 794920 | J45: =SUM(I45:I46) -> 1068449
C46: 71600416-3 | D46: AV 7 6 39 BRR SAN LUIS | E46: CUCUTA | F46: 45128 | G46: 45128 | H46: 361 | I46: 273529
A47: 5 | B47: ARTE IMPRESO CUCUTA S.A.S | C47: 900582639-7 | D47: CLL 15 2 56 BRR LA PLAYA | E47: CUCUTA | F47: 45342 | G47: 45342 | H47: CE0002-289 | I47: 1660050 | J47: =SUM(I47:I49) -> 2070600
C48: 900582639-7 | D48: CLL 15 2 56 BRR LA PLAYA | E48: CUCUTA | F48: 45342 | G48: 45342 | H48: CE0002-289 | I48: 261800
C49: 900582639-7 | D49: CLL 15 2 56 BRR LA PLAYA | E49: CUCUTA | I49: 148750
A50: 6 | B50: AVICOLA EL MADRONO S A | C50: 800000276-8 | D50: KM 6 AUT GIRON CR 12 57 88 BUCARAMANGA | E50: BUCARAMANGA | F50: 45576 | G50: 45584 | I50: 6954900 | J50: =SUM(I50:I51) -> 11381100
C51: 800000276-8 | D51: KM 6 AUT GIRON CR 12 57 88 BUCARAMANGA | E51: BUCARAMANGA | F51: 45580 | G51: 45588 | I51: 4426200
A52: 7 | B52: CARLOS ARTURO PEÑA ARDILA | C52: 13467003-4 | D52: CLL 22AN # 18E-59 NIZA | E52: CUCUTA | F52: 45098 | G52: 45128 | H52: FCMERFVC217 | I52: 3000000 | J52: =SUM(I52:I60) -> 47495325
C53: 13467003-4 | D53: CLL 22AN # 18E-59 NIZA | E53: CUCUTA | F53: 45128 | G53: 45158 | H53: FCMERFVC228 | I53: 7507500
C54: 13467003-4 | D54: CLL 22AN # 18E-59 NIZA | E54: CUCUTA | F54: 45177 | G54: 44934 | H54: FCMERFVC239 | I54: 5197500
C55: 13467003-4 | D55: CLL 22AN # 18E-59 NIZA | E55: CUCUTA | F55: 45177 | G55: 45229 | H55: FCMERFVC246 | I55: 5197500
C56: 13467003-4 | D56: CLL 22AN # 18E-59 NIZA | E56: CUCUTA | F56: 45225 | G56: 45225 | H56: FCMERFVC251 | I56: 5197500
...

Sheet OBLIG FINAN
A2: =+'[2]PROVEEDORES Bo.'!A2:J2 -> LA NOTA COLOMBIA SAS
A3: =+'[2]PROVEEDORES Bo.'!A3:J3 -> NIT 901233167-1
K4: =+'CLIENTES Bo'!J5 -> Corte al 15 de Octubre de 2024
A5: INVENTARIO DE PASIVOS - OBLIGACIONES FINANCIERAS CREDITOS ORDINARIOS
A6: Nº | B6: Nombre Acreedor | C6: Nit. o Cedula | D6: Domicilio Acreedor | E6: Ciudad | F6: Fecha de Origen deuda | G6: Fecha de Vencimiento | H6: Concepto | I6: Soporte Documento | J6: Valor Total | K6: Total por Acreedor
A7: 1 | B7: BANCO DAVIVIENDA S.A | C7: 860034313-7 | D7: AVENIDA EL DORADO 68 C 61 P 10 | E7: CUCUTA | F7: 45152 | G7: 46248 | H7: CREDITO BANCO DAVIVIENDA NRO 476102 | I7: PX00476102 | J7: 1.9262146e+08 | K7: =+J7 -> 1.9262146e+08
A8: 2 | B8: BANCO DE COMERCIO EXTERIOR DE COLOMBIA S.A. | C8: 800149923-6 | D8: CALLE 28 NRO 13A15 PISO 37 AL 42 | E8: BOGOTA | F8: 45138 | G8: 46965 | H8: CREDITO BANCOLDEX | I8: PX0010041370 | J8: 560000000 | K8: =+J8 -> 560000000
A9: 3 | B9: BANCO DE OCCIDENTE | C9: 890300279-4 | D9: Edif.C.C. Plaza, Cl. 11 #4-26 P.2 | E9: CUCUTA | F9: 45331 | G9: 46427 | H9: FINAGRO CARTERA SUSTITUTA | I9: 60030067080 | J9: 99117170 | K9: =SUM(J9:J19) -> 1.797193e+09
C10: 890300279-4 | D10: Edif.C.C. Plaza, Cl. 11 #4-26 P.2 | E10: CUCUTA | F10: 44448 | G10: 45440 | H10: CARTERA ORDINARIA | I10: 60000231631 | J10: 3842966
C11: 890300279-4 | D11: Edif.C.C. Plaza, Cl. 11 #4-26 P.2 | E11: CUCUTA | F11: 45260 | G11: 45442 | H11: LIBRE INVERSION DE TESORERIA | I11: 60030064178 | J11: 350000000
C12: 890300279-4 | D12: Edif.C.C. Plaza, Cl. 11 #4-26 P.2 | E12: CUCUTA | F12: 45339 | G12: 45574 | H12: FINAGRO CARTERA SUSTITUTA | I12: 60030067064 | J12: 1032844134
C13: 890300279-4 | D13: Edif.C.C. Plaza, Cl. 11 #4-26 P.2 | E13: CUCUTA | F13: 45329 | G13: 45695 | H13: FINAGRO CARTERA SUSTITUTA | I13: 60030066843 | J13: 227012500
C14: 890300279-4 | D14: Edif.C.C. Plaza, Cl. 11 #4-26 P.2 | E14: CUCUTA | F14: 45378 | G14: 45413 | H14: CARTERA ORDINARIA | I14: 60030069615 | J14: 29456007
